BEGIN:VCALENDAR
VERSION:2.0
PRODID:-//ChamberMaster//Event Calendar 2.0//EN
METHOD:PUBLISH
X-PUBLISHED-TTL:P3D
REFRESH-INTERVAL:P3D
CALSCALE:GREGORIAN
BEGIN:VEVENT
DTSTART:20040131T000000Z
DTEND:20040131T040000Z
X-MICROSOFT-CDO-ALLDAYEVENT:FALSE
SUMMARY:79th Annual Meeting 2004
DESCRIPTION:
X-ALT-DESC;FMTTYPE=text/html:
LOCATION:Contemporary Resort Ballroom of the Americas
UID:e.7798.99
SEQUENCE:3
DTSTAMP:20260422T143017Z
URL:https://business.kissimmeechamber.com/events/details/79th-annual-meeting-2004-99
END:VEVENT

END:VCALENDAR
