BEGIN:VCALENDAR
VERSION:2.0
PRODID:-//ChamberMaster//Event Calendar 2.0//EN
METHOD:PUBLISH
X-PUBLISHED-TTL:P3D
REFRESH-INTERVAL:P3D
CALSCALE:GREGORIAN
BEGIN:VEVENT
DTSTART:20050129T000000Z
DTEND:20050129T040000Z
X-MICROSOFT-CDO-ALLDAYEVENT:FALSE
SUMMARY:80th Annual Meeting 2005
DESCRIPTION:
X-ALT-DESC;FMTTYPE=text/html:
LOCATION:Disney's Yacht & Beach Convention Center
UID:e.7798.86
SEQUENCE:3
DTSTAMP:20260421T201704Z
URL:https://business.kissimmeechamber.com/events/details/80th-annual-meeting-2005-86
END:VEVENT

END:VCALENDAR
