BEGIN:VCALENDAR
VERSION:2.0
PRODID:-//ChamberMaster//Event Calendar 2.0//EN
METHOD:PUBLISH
X-PUBLISHED-TTL:P3D
REFRESH-INTERVAL:P3D
CALSCALE:GREGORIAN
BEGIN:VEVENT
DTSTART:20060204T000000Z
DTEND:20060204T040000Z
X-MICROSOFT-CDO-ALLDAYEVENT:FALSE
SUMMARY:81st Annual Meeting 2006
DESCRIPTION:
X-ALT-DESC;FMTTYPE=text/html:
LOCATION:Disney's Contemporary Resort
UID:e.7798.100
SEQUENCE:3
DTSTAMP:20260420T235819Z
URL:https://business.kissimmeechamber.com/events/details/81st-annual-meeting-2006-100
END:VEVENT

END:VCALENDAR
