BEGIN:VCALENDAR
VERSION:2.0
PRODID:-//ChamberMaster//Event Calendar 2.0//EN
METHOD:PUBLISH
X-PUBLISHED-TTL:P3D
REFRESH-INTERVAL:P3D
CALSCALE:GREGORIAN
BEGIN:VEVENT
DTSTART:20070128T000000Z
DTEND:20070128T040000Z
X-MICROSOFT-CDO-ALLDAYEVENT:FALSE
SUMMARY:82nd Annual Meeting 2007
DESCRIPTION:
X-ALT-DESC;FMTTYPE=text/html:
LOCATION:Disney's Contemporary Ballroom J
UID:e.7798.91
SEQUENCE:3
DTSTAMP:20260420T083940Z
URL:https://business.kissimmeechamber.com/events/details/82nd-annual-meeting-2007-91
END:VEVENT

END:VCALENDAR
