BEGIN:VCALENDAR
VERSION:2.0
PRODID:-//ChamberMaster//Event Calendar 2.0//EN
METHOD:PUBLISH
X-PUBLISHED-TTL:P3D
REFRESH-INTERVAL:P3D
CALSCALE:GREGORIAN
BEGIN:VEVENT
DTSTART:20050319T180000Z
DTEND:20050319T233000Z
X-MICROSOFT-CDO-ALLDAYEVENT:FALSE
SUMMARY:Astros BBQ & Game 2005
DESCRIPTION:
X-ALT-DESC;FMTTYPE=text/html:
LOCATION:Florida Cattlemen's Assoc.
UID:e.7798.112
SEQUENCE:3
DTSTAMP:20260421T170351Z
URL:https://business.kissimmeechamber.com/events/details/astros-bbq-game-2005-112
END:VEVENT

END:VCALENDAR
