BEGIN:VCALENDAR
VERSION:2.0
PRODID:-//ChamberMaster//Event Calendar 2.0//EN
METHOD:PUBLISH
X-PUBLISHED-TTL:P3D
REFRESH-INTERVAL:P3D
CALSCALE:GREGORIAN
BEGIN:VEVENT
DTSTART:20040729T200000Z
DTEND:20040730T000000Z
X-MICROSOFT-CDO-ALLDAYEVENT:FALSE
SUMMARY:Back to School Back to Business 2004
DESCRIPTION:
X-ALT-DESC;FMTTYPE=text/html:
LOCATION:Celebration H.S
UID:e.7798.147
SEQUENCE:3
DTSTAMP:20260422T075455Z
URL:https://business.kissimmeechamber.com/events/details/back-to-school-back-to-business-2004-147
END:VEVENT

END:VCALENDAR
