BEGIN:VCALENDAR
VERSION:2.0
PRODID:-//ChamberMaster//Event Calendar 2.0//EN
METHOD:PUBLISH
X-PUBLISHED-TTL:P3D
REFRESH-INTERVAL:P3D
CALSCALE:GREGORIAN
BEGIN:VEVENT
DTSTART:20260204T180000Z
DTEND:20260204T190000Z
X-MICROSOFT-CDO-ALLDAYEVENT:FALSE
SUMMARY:Black Business Coalition Meeting: Tax Prep for Small Business
DESCRIPTION:February 4th marks the first meeting of 2026 for the Black Business Coalition.  We will receive a tax prep overview for small businesses with Shirley Chisholm Campbell\, owner of Safeguard Multi Services\, LLC. This meeting is open to all. Pease register to RSVP.\n\n\n\nThis seminar will educate new and growing business owners on proper startup tax rules and IRS compliance requirements. Attendees will gain practical guidance to avoid common filing errors\, penalties\, and IRS issues from day one.\n\n\n\nKey Learning Objectives\n Attendees will learn how to:\n\n\n	Properly register a business with the IRS and state agencies\n	Understand EIN\, entity selection\, and tax filing responsibilities\n	Avoid common startup mistakes that trigger IRS notices and penalties\n	Set up basic recordkeeping and tax compliance systems\n	Know when and how to pay estimated taxes\n\n\n\n\n\nSpeaker Bio\n Shirley Chisholm Campbell\, PA is a licensed tax professional and business consultant with extensive experience assisting startups and small businesses with IRS compliance\, tax planning\, and business structure. She is passionate about educating entrepreneurs on building strong financial foundations that prevent costly tax issues and support long-term success.
X-ALT-DESC;FMTTYPE=text/html:<br />\n<span style="font-family:tahoma\;"><span style="font-size:14px\;">February 4th marks the first meeting of 2026 for the Black Business Coalition.&nbsp\; </span><span style="color: rgb(51\, 51\, 51)\; font-size: 14px\; background-color: rgb(255\, 255\, 255)\;">We will receive a tax prep overview for small businesses with Shirley Chisholm Campbell\, owner of&nbsp\;</span><a href="https://business.theosceolachamber.com/list/member/safeguard-multi-services-llc-25470" style="color: rgb(7\, 130\, 193)\; font-family: sans-serif\, Arial\, Verdana\, &quot\;Trebuchet MS&quot\;\; font-size: 14px\; background-color: rgb(255\, 255\, 255)\;">Safeguard Multi Services\, LLC</a><span style="color: rgb(51\, 51\, 51)\; font-size: 14px\; background-color: rgb(255\, 255\, 255)\;">.&nbsp\;</span><span style="font-size:14px\;">This meeting is open to all. Pease register to RSVP.<br />\n<br />\nThis seminar will educate new and growing business owners on proper startup tax rules and IRS compliance requirements. Attendees will gain practical guidance to avoid common filing errors\, penalties\, and IRS issues from day one.</span></span>\n<div align="center" style="text-align:center\;">\n<hr align="center" size="2" width="100%" /></div>\n\n<h3><span style="font-family:tahoma\;"><span style="font-size:14px\;"><strong>Key Learning Objectives</strong></span></span></h3>\n<span style="font-family:tahoma\;"> <span style="font-size:14px\;">Attendees will learn how to:</span></span>\n\n<ul>\n	<li><span style="font-family:tahoma\;"><span style="font-size:14px\;">Properly register a business with the IRS and state agencies</span></span></li>\n	<li><span style="font-family:tahoma\;"><span style="font-size:14px\;">Understand EIN\, entity selection\, and tax filing responsibilities</span></span></li>\n	<li><span style="font-family:tahoma\;"><span style="font-size:14px\;">Avoid common startup mistakes that trigger IRS notices and penalties</span></span></li>\n	<li><span style="font-family:tahoma\;"><span style="font-size:14px\;">Set up basic recordkeeping and tax compliance systems</span></span></li>\n	<li><span style="font-family:tahoma\;"><span style="font-size:14px\;">Know when and how to pay estimated taxes</span></span></li>\n</ul>\n\n<div align="center" style="text-align:center\;">\n<hr align="center" size="2" width="100%" /></div>\n\n<h3><span style="font-family:tahoma\;"><span style="font-size:14px\;"><strong>Speaker Bio</strong></span></span></h3>\n<span style="font-family:tahoma\;"> <span style="font-size:14px\;"><strong>Shirley Chisholm Campbell\, PA</strong>&nbsp\;is a licensed tax professional and business consultant with extensive experience assisting startups and small businesses with IRS compliance\, tax planning\, and business structure. She is passionate about educating entrepreneurs on building strong financial foundations that prevent costly tax issues and support long-term success.</span></span>
LOCATION:The Osceola Chamber 1425 E Vine St. Kissimmee\, FL 24744
UID:e.7798.3421
SEQUENCE:3
DTSTAMP:20260422T081203Z
URL:https://business.kissimmeechamber.com/events/details/black-business-coalition-meeting-tax-prep-for-small-business-3421
END:VEVENT

END:VCALENDAR
