BEGIN:VCALENDAR
VERSION:2.0
PRODID:-//ChamberMaster//Event Calendar 2.0//EN
METHOD:PUBLISH
X-PUBLISHED-TTL:P3D
REFRESH-INTERVAL:P3D
CALSCALE:GREGORIAN
BEGIN:VEVENT
DTSTART:20030101T170000Z
DTEND:20031231T170000Z
X-MICROSOFT-CDO-ALLDAYEVENT:FALSE
SUMMARY:Board of Directors Lunch 2003
DESCRIPTION:
X-ALT-DESC;FMTTYPE=text/html:
LOCATION:1425 E. Vine Street
UID:e.7798.142
SEQUENCE:3
DTSTAMP:20260422T161349Z
URL:https://business.kissimmeechamber.com/events/details/board-of-directors-lunch-2003-01-01-2003-142
END:VEVENT

END:VCALENDAR
