BEGIN:VCALENDAR
VERSION:2.0
PRODID:-//ChamberMaster//Event Calendar 2.0//EN
METHOD:PUBLISH
X-PUBLISHED-TTL:P3D
REFRESH-INTERVAL:P3D
CALSCALE:GREGORIAN
BEGIN:VEVENT
DTSTART:20040310T223000Z
DTEND:20040311T003000Z
X-MICROSOFT-CDO-ALLDAYEVENT:FALSE
SUMMARY:Business After Hours at Toho Square Downtown 2004 (Human Checker Game)
DESCRIPTION:
X-ALT-DESC;FMTTYPE=text/html:
LOCATION:Toho Square
UID:e.7798.171
SEQUENCE:3
DTSTAMP:20260422T114751Z
URL:https://business.kissimmeechamber.com/events/details/business-after-hours-at-toho-square-downtown-2004-human-checker-game-171
END:VEVENT

END:VCALENDAR
