BEGIN:VCALENDAR
VERSION:2.0
PRODID:-//ChamberMaster//Event Calendar 2.0//EN
METHOD:PUBLISH
X-PUBLISHED-TTL:P3D
REFRESH-INTERVAL:P3D
CALSCALE:GREGORIAN
BEGIN:VEVENT
DTSTART:20020227T140000Z
DTEND:20020227T190000Z
X-MICROSOFT-CDO-ALLDAYEVENT:FALSE
SUMMARY:Capital For A Day
DESCRIPTION:
X-ALT-DESC;FMTTYPE=text/html:
LOCATION:Kissimmee City Hall
UID:e.7798.160
SEQUENCE:3
DTSTAMP:20260425T183520Z
URL:https://business.kissimmeechamber.com/events/details/capital-for-a-day-02-27-2002-160
END:VEVENT

END:VCALENDAR
