BEGIN:VCALENDAR
VERSION:2.0
PRODID:-//ChamberMaster//Event Calendar 2.0//EN
METHOD:PUBLISH
X-PUBLISHED-TTL:P3D
REFRESH-INTERVAL:P3D
CALSCALE:GREGORIAN
BEGIN:VEVENT
DTSTART:20061017T154500Z
DTEND:20061017T173000Z
X-MICROSOFT-CDO-ALLDAYEVENT:FALSE
SUMMARY:City Commission Debate 2006
DESCRIPTION:
X-ALT-DESC;FMTTYPE=text/html:
LOCATION:Kissimmee Civic Center
UID:e.7798.166
SEQUENCE:3
DTSTAMP:20260420T112501Z
URL:https://business.kissimmeechamber.com/events/details/city-commission-debate-2006-166
END:VEVENT

END:VCALENDAR
