BEGIN:VCALENDAR
VERSION:2.0
PRODID:-//ChamberMaster//Event Calendar 2.0//EN
METHOD:PUBLISH
X-PUBLISHED-TTL:P3D
REFRESH-INTERVAL:P3D
CALSCALE:GREGORIAN
BEGIN:VEVENT
DTSTART:20030827T123000Z
DTEND:20030827T173000Z
X-MICROSOFT-CDO-ALLDAYEVENT:FALSE
SUMMARY:Economic Development Summit 2003
DESCRIPTION:
X-ALT-DESC;FMTTYPE=text/html:
LOCATION:Hyatt Orlando
UID:e.7798.206
SEQUENCE:3
DTSTAMP:20260422T221547Z
URL:https://business.kissimmeechamber.com/events/details/economic-development-summit-2003-206
END:VEVENT

END:VCALENDAR
