BEGIN:VCALENDAR
VERSION:2.0
PRODID:-//ChamberMaster//Event Calendar 2.0//EN
METHOD:PUBLISH
X-PUBLISHED-TTL:P3D
REFRESH-INTERVAL:P3D
CALSCALE:GREGORIAN
BEGIN:VEVENT
DTSTART:20041103T003000Z
DTEND:20041103T023000Z
X-MICROSOFT-CDO-ALLDAYEVENT:FALSE
SUMMARY:Election Night Coverage 2004 Governer
DESCRIPTION:
X-ALT-DESC;FMTTYPE=text/html:
LOCATION:Supervisor of Elections
UID:e.7798.210
SEQUENCE:3
DTSTAMP:20260421T233716Z
URL:https://business.kissimmeechamber.com/events/details/election-night-coverage-2004-governer-210
END:VEVENT

END:VCALENDAR
