BEGIN:VCALENDAR
VERSION:2.0
PRODID:-//ChamberMaster//Event Calendar 2.0//EN
METHOD:PUBLISH
X-PUBLISHED-TTL:P3D
REFRESH-INTERVAL:P3D
CALSCALE:GREGORIAN
BEGIN:VEVENT
DTSTART:20060203T124500Z
DTEND:20060203T140000Z
X-MICROSOFT-CDO-ALLDAYEVENT:FALSE
SUMMARY:February Breakfast of Champion 2006
DESCRIPTION:
X-ALT-DESC;FMTTYPE=text/html:
LOCATION:Kissimmee Civic Center
UID:e.7798.229
SEQUENCE:3
DTSTAMP:20260420T235839Z
URL:https://business.kissimmeechamber.com/events/details/february-breakfast-of-champion-2006-229
END:VEVENT

END:VCALENDAR
