BEGIN:VCALENDAR
VERSION:2.0
PRODID:-//ChamberMaster//Event Calendar 2.0//EN
METHOD:PUBLISH
X-PUBLISHED-TTL:P3D
REFRESH-INTERVAL:P3D
CALSCALE:GREGORIAN
BEGIN:VEVENT
DTSTART:20260513T213000Z
DTEND:20260513T233000Z
X-MICROSOFT-CDO-ALLDAYEVENT:FALSE
SUMMARY:Front Porch: Business Perpetuation Value
DESCRIPTION:Our Front Porch Series focuses on a business-to-business (B2B) platform that offers attendees an opportunity to develop B2B connections at a casual reception that is preceded by a different educational or professional growth opportunity each time. \n\n\n\nAt our May Front Porch\, Larry Klimek with JKL Associates will discuss your "Business Perpetuation Value."
X-ALT-DESC;FMTTYPE=text/html:<br />\n<span style="font-size:14px\;"><b style="color: rgb(40\, 37\, 97)\; font-family: arial\; font-size: 14px\; background-color: rgb(255\, 255\, 255)\;">Our Front Porch Series focuses on a business-to-business (B2B) platform that offers attendees an opportunity to develop B2B connections at a casual reception that is preceded by a different educational or professional growth opportunity each time.</b><span style="font-family:arial\;">&nbsp\;<br />\n<br />\n<font color="#282561"><b>At our May Front Porch\, Larry Klimek with JKL Associates will discuss your &quot\;Business Perpetuation Value.&quot\;</b></font></span></span>
LOCATION:The Osceola Chamber 1425 E Vine St. Kissimmee\, FL 34744
UID:e.7798.3462
SEQUENCE:3
DTSTAMP:20260420T202458Z
URL:https://business.kissimmeechamber.com/events/details/front-porch-business-perpetuation-value-3462
END:VEVENT

END:VCALENDAR
