BEGIN:VCALENDAR
VERSION:2.0
PRODID:-//ChamberMaster//Event Calendar 2.0//EN
METHOD:PUBLISH
X-PUBLISHED-TTL:P3D
REFRESH-INTERVAL:P3D
CALSCALE:GREGORIAN
BEGIN:VEVENT
DTSTART:20060607T120000Z
DTEND:20060607T173000Z
X-MICROSOFT-CDO-ALLDAYEVENT:FALSE
SUMMARY:Growth Management Summit
DESCRIPTION:
X-ALT-DESC;FMTTYPE=text/html:
LOCATION:Gaylord Palms Resort & Convention Center
UID:e.7798.249
SEQUENCE:3
DTSTAMP:20260420T172422Z
URL:https://business.kissimmeechamber.com/events/details/growth-management-summit-06-07-2006-249
END:VEVENT

END:VCALENDAR
