BEGIN:VCALENDAR
VERSION:2.0
PRODID:-//ChamberMaster//Event Calendar 2.0//EN
METHOD:PUBLISH
X-PUBLISHED-TTL:P3D
REFRESH-INTERVAL:P3D
CALSCALE:GREGORIAN
BEGIN:VEVENT
DTSTART:20030101T050000Z
DTEND:20031231T050000Z
X-MICROSOFT-CDO-ALLDAYEVENT:FALSE
SUMMARY:HBC Board Lunch 2003
DESCRIPTION:
X-ALT-DESC;FMTTYPE=text/html:
LOCATION:1425 East Vine Street
UID:e.7798.275
SEQUENCE:3
DTSTAMP:20260422T154632Z
URL:https://business.kissimmeechamber.com/events/details/hbc-board-lunch-2003-275
END:VEVENT

END:VCALENDAR
