BEGIN:VCALENDAR
VERSION:2.0
PRODID:-//ChamberMaster//Event Calendar 2.0//EN
METHOD:PUBLISH
X-PUBLISHED-TTL:P3D
REFRESH-INTERVAL:P3D
CALSCALE:GREGORIAN
BEGIN:VEVENT
DTSTART:20060101T050000Z
DTEND:20061231T050000Z
X-MICROSOFT-CDO-ALLDAYEVENT:FALSE
SUMMARY:Kiss/Osc Chamber Trustee 2006
DESCRIPTION:
X-ALT-DESC;FMTTYPE=text/html:
LOCATION:Kiss/Osc Chamber of Commerce
UID:e.7798.15
SEQUENCE:3
DTSTAMP:20260420T082920Z
URL:https://business.kissimmeechamber.com/events/details/kiss-osc-chamber-trustee-2006-15
END:VEVENT

END:VCALENDAR
