BEGIN:VCALENDAR
VERSION:2.0
PRODID:-//ChamberMaster//Event Calendar 2.0//EN
METHOD:PUBLISH
X-PUBLISHED-TTL:P3D
REFRESH-INTERVAL:P3D
CALSCALE:GREGORIAN
BEGIN:VEVENT
DTSTART:20030513T154500Z
DTEND:20030513T173000Z
X-MICROSOFT-CDO-ALLDAYEVENT:FALSE
SUMMARY:Larson Awards 2003
DESCRIPTION:
X-ALT-DESC;FMTTYPE=text/html:
LOCATION:Radisson Resort
UID:e.7798.305
SEQUENCE:3
DTSTAMP:20260423T024309Z
URL:https://business.kissimmeechamber.com/events/details/larson-awards-2003-305
END:VEVENT

END:VCALENDAR
