BEGIN:VCALENDAR
VERSION:2.0
PRODID:-//ChamberMaster//Event Calendar 2.0//EN
METHOD:PUBLISH
X-PUBLISHED-TTL:P3D
REFRESH-INTERVAL:P3D
CALSCALE:GREGORIAN
BEGIN:VEVENT
DTSTART:20050510T154500Z
DTEND:20050510T173000Z
X-MICROSOFT-CDO-ALLDAYEVENT:FALSE
SUMMARY:Larson Awards 2005
DESCRIPTION:
X-ALT-DESC;FMTTYPE=text/html:
LOCATION:Radisson Resort Parkway
UID:e.7798.307
SEQUENCE:3
DTSTAMP:20260421T153824Z
URL:https://business.kissimmeechamber.com/events/details/larson-awards-2005-307
END:VEVENT

END:VCALENDAR
