BEGIN:VCALENDAR
VERSION:2.0
PRODID:-//ChamberMaster//Event Calendar 2.0//EN
METHOD:PUBLISH
X-PUBLISHED-TTL:P3D
REFRESH-INTERVAL:P3D
CALSCALE:GREGORIAN
BEGIN:VEVENT
DTSTART:20060516T154500Z
DTEND:20060516T173000Z
X-MICROSOFT-CDO-ALLDAYEVENT:FALSE
SUMMARY:Larson Awards 2006
DESCRIPTION:
X-ALT-DESC;FMTTYPE=text/html:
LOCATION:Disney's Coronado Springs Convention Ctr.
UID:e.7798.308
SEQUENCE:3
DTSTAMP:20260420T185346Z
URL:https://business.kissimmeechamber.com/events/details/larson-awards-2006-308
END:VEVENT

END:VCALENDAR
