BEGIN:VCALENDAR
VERSION:2.0
PRODID:-//ChamberMaster//Event Calendar 2.0//EN
METHOD:PUBLISH
X-PUBLISHED-TTL:P3D
REFRESH-INTERVAL:P3D
CALSCALE:GREGORIAN
BEGIN:VEVENT
DTSTART:20020601T040000Z
DTEND:20020731T040000Z
X-MICROSOFT-CDO-ALLDAYEVENT:FALSE
SUMMARY:Membership Directory 2002
DESCRIPTION:
X-ALT-DESC;FMTTYPE=text/html:
LOCATION:Chamber
UID:e.7798.191
SEQUENCE:3
DTSTAMP:20260425T102418Z
URL:https://business.kissimmeechamber.com/events/details/membership-directory-2002-06-01-2002-191
END:VEVENT

END:VCALENDAR
