BEGIN:VCALENDAR
VERSION:2.0
PRODID:-//ChamberMaster//Event Calendar 2.0//EN
METHOD:PUBLISH
X-PUBLISHED-TTL:P3D
REFRESH-INTERVAL:P3D
CALSCALE:GREGORIAN
BEGIN:VEVENT
DTSTART:20260115T200000Z
DTEND:20260115T210000Z
X-MICROSOFT-CDO-ALLDAYEVENT:FALSE
SUMMARY:Non-Profit Coalition Meeting
DESCRIPTION:Join us for our regularly scheduled Non-Profit Coalition meeting for \n\nnetworking and connecting with fellow non-profit organizations.\n\n\n\nMore info to come.\n\n\n\nAs always\, Coalition meetings are open to members and non-members.
X-ALT-DESC;FMTTYPE=text/html:<br />\n<span style="font-size:16px\;">Join us for our regularly scheduled Non-Profit Coalition meeting for&nbsp\;<br />\nnetworking and connecting with fellow non-profit organizations.<br />\n<br />\n<em style="box-sizing: border-box\; outline: 0px\; white-space-collapse: preserve\; color: rgb(102\, 102\, 102)\; font-family: Montserrat\, Helvetica\, Arial\, sans-serif\; font-size: 16px\; background-color: rgb(255\, 255\, 255)\;">More info to come.</em><br style="box-sizing: border-box\; white-space-collapse: preserve\; color: rgb(102\, 102\, 102)\; font-family: Montserrat\, Helvetica\, Arial\, sans-serif\; font-size: 16px\; background-color: rgb(255\, 255\, 255)\;" />\n<br style="box-sizing: border-box\; white-space-collapse: preserve\; color: rgb(102\, 102\, 102)\; font-family: Montserrat\, Helvetica\, Arial\, sans-serif\; font-size: 16px\; background-color: rgb(255\, 255\, 255)\;" />\n<span style="box-sizing: border-box\; white-space-collapse: preserve\; color: rgb(102\, 102\, 102)\; font-family: Montserrat\, Helvetica\, Arial\, sans-serif\; background-color: rgb(255\, 255\, 255)\;"><em style="box-sizing: border-box\;">As always\, Coalition meetings are open to members and non-members.</em></span></span>
LOCATION:The Osceola Chamber 1425 E. Vine Street Kissimmee\, FL 34744
UID:e.7798.3355
SEQUENCE:3
DTSTAMP:20260422T044421Z
URL:https://business.kissimmeechamber.com/events/details/non-profit-coalition-meeting-3355
END:VEVENT

END:VCALENDAR
