BEGIN:VCALENDAR
VERSION:2.0
PRODID:-//ChamberMaster//Event Calendar 2.0//EN
METHOD:PUBLISH
X-PUBLISHED-TTL:P3D
REFRESH-INTERVAL:P3D
CALSCALE:GREGORIAN
BEGIN:VEVENT
DTSTART:20260319T173000Z
DTEND:20260319T183000Z
X-MICROSOFT-CDO-ALLDAYEVENT:FALSE
SUMMARY:Non-Profit Coalition Meeting
DESCRIPTION:AI helps organizations work smarter\, not harder.\n\nMelanie Miller\, Playbook Marketing Solutions\, will guide attendees on how to harness the power of AI.  Discover how to save time\, reduce costs\, strengthen outreach\, and build visibility so you can focus more energy on what matters most: advancing your mission and serving your community.
X-ALT-DESC;FMTTYPE=text/html:<p data-end="355" data-start="46"><span style="font-size:16px\;">AI helps organizations work smarter\, not harder.</span></p>\n\n<p data-end="551" data-is-last-node="" data-is-only-node="" data-start="357"><span style="font-size:16px\;">Melanie Miller\, Playbook Marketing Solutions\,&nbsp\;will guide attendees on how to harness the power of AI.&nbsp\; Discover how to save time\, reduce costs\, strengthen outreach\, and build visibility so you can focus more energy on what matters most: advancing your mission and serving your community.</span></p>\n
LOCATION:Hart Memorial Library - Roseada Room 211 E. Dakin Ave. Kissimmee\, FL 34741
UID:e.7798.3425
SEQUENCE:3
DTSTAMP:20260422T092530Z
URL:https://business.kissimmeechamber.com/events/details/non-profit-coalition-meeting-3425
END:VEVENT

END:VCALENDAR
