BEGIN:VCALENDAR
VERSION:2.0
PRODID:-//ChamberMaster//Event Calendar 2.0//EN
METHOD:PUBLISH
X-PUBLISHED-TTL:P3D
REFRESH-INTERVAL:P3D
CALSCALE:GREGORIAN
BEGIN:VEVENT
DTSTART:20011113T164500Z
DTEND:20011113T190000Z
X-MICROSOFT-CDO-ALLDAYEVENT:FALSE
SUMMARY:ORAC Special Meeting
DESCRIPTION:
X-ALT-DESC;FMTTYPE=text/html:
LOCATION:ChampionsGate
UID:e.7798.385
SEQUENCE:3
DTSTAMP:20260425T225401Z
URL:https://business.kissimmeechamber.com/events/details/orac-special-meeting-11-13-2001-385
END:VEVENT

END:VCALENDAR
