BEGIN:VCALENDAR
VERSION:2.0
PRODID:-//ChamberMaster//Event Calendar 2.0//EN
METHOD:PUBLISH
X-PUBLISHED-TTL:P3D
REFRESH-INTERVAL:P3D
CALSCALE:GREGORIAN
BEGIN:VEVENT
DTSTART:20060711T154500Z
DTEND:20060711T173000Z
X-MICROSOFT-CDO-ALLDAYEVENT:FALSE
SUMMARY:ORAC Tourism Update/Quality
DESCRIPTION:
X-ALT-DESC;FMTTYPE=text/html:
LOCATION:Gaylord Palms Resort & Convention Center
UID:e.7798.372
SEQUENCE:3
DTSTAMP:20260420T160138Z
URL:https://business.kissimmeechamber.com/events/details/orac-tourism-update-quality-07-11-2006-372
END:VEVENT

END:VCALENDAR
