BEGIN:VCALENDAR
VERSION:2.0
PRODID:-//ChamberMaster//Event Calendar 2.0//EN
METHOD:PUBLISH
X-PUBLISHED-TTL:P3D
REFRESH-INTERVAL:P3D
CALSCALE:GREGORIAN
BEGIN:VEVENT
DTSTART:20061207T164500Z
DTEND:20061207T183000Z
X-MICROSOFT-CDO-ALLDAYEVENT:FALSE
SUMMARY:Osceola Business Awards 2006
DESCRIPTION:
X-ALT-DESC;FMTTYPE=text/html:
LOCATION:Kissimmee Civic Center
UID:e.7798.354
SEQUENCE:3
DTSTAMP:20260420T081723Z
URL:https://business.kissimmeechamber.com/events/details/osceola-business-awards-2006-354
END:VEVENT

END:VCALENDAR
