BEGIN:VCALENDAR
VERSION:2.0
PRODID:-//ChamberMaster//Event Calendar 2.0//EN
METHOD:PUBLISH
X-PUBLISHED-TTL:P3D
REFRESH-INTERVAL:P3D
CALSCALE:GREGORIAN
BEGIN:VEVENT
DTSTART:20031112T170000Z
DTEND:20031114T040000Z
X-MICROSOFT-CDO-ALLDAYEVENT:FALSE
SUMMARY:Osceola Fall Expo Series 2003
DESCRIPTION:
X-ALT-DESC;FMTTYPE=text/html:
LOCATION:Gaylord Palms Resort & Convention Center
UID:e.7798.222
SEQUENCE:3
DTSTAMP:20260422T172841Z
URL:https://business.kissimmeechamber.com/events/details/osceola-fall-expo-series-2003-222
END:VEVENT

END:VCALENDAR
