BEGIN:VCALENDAR
VERSION:2.0
PRODID:-//ChamberMaster//Event Calendar 2.0//EN
METHOD:PUBLISH
X-PUBLISHED-TTL:P3D
REFRESH-INTERVAL:P3D
CALSCALE:GREGORIAN
BEGIN:VEVENT
DTSTART:20041117T210000Z
DTEND:20041119T010000Z
X-MICROSOFT-CDO-ALLDAYEVENT:FALSE
SUMMARY:Osceola Fall Expo Series 2004
DESCRIPTION:
X-ALT-DESC;FMTTYPE=text/html:
LOCATION:Osceola Heritage Park
UID:e.7798.221
SEQUENCE:3
DTSTAMP:20260421T233805Z
URL:https://business.kissimmeechamber.com/events/details/osceola-fall-expo-series-2004-221
END:VEVENT

END:VCALENDAR
