BEGIN:VCALENDAR
VERSION:2.0
PRODID:-//ChamberMaster//Event Calendar 2.0//EN
METHOD:PUBLISH
X-PUBLISHED-TTL:P3D
REFRESH-INTERVAL:P3D
CALSCALE:GREGORIAN
BEGIN:VEVENT
DTSTART:20020405T120000Z
DTEND:20020406T000000Z
X-MICROSOFT-CDO-ALLDAYEVENT:FALSE
SUMMARY:Osceola Golf Classic 2002
DESCRIPTION:
X-ALT-DESC;FMTTYPE=text/html:
LOCATION:Kissimmee Bay Country Club - April 5\, 2002
UID:e.7798.263
SEQUENCE:3
DTSTAMP:20260425T152605Z
URL:https://business.kissimmeechamber.com/events/details/osceola-golf-classic-2002-04-05-2002-263
END:VEVENT

END:VCALENDAR
