BEGIN:VCALENDAR
VERSION:2.0
PRODID:-//ChamberMaster//Event Calendar 2.0//EN
METHOD:PUBLISH
X-PUBLISHED-TTL:P3D
REFRESH-INTERVAL:P3D
CALSCALE:GREGORIAN
BEGIN:VEVENT
DTSTART:20051102T223000Z
DTEND:20051103T043000Z
X-MICROSOFT-CDO-ALLDAYEVENT:FALSE
SUMMARY:Osceola Poker Classic
DESCRIPTION:
X-ALT-DESC;FMTTYPE=text/html:
LOCATION:Cypress Cove Resort
UID:e.7798.398
SEQUENCE:3
DTSTAMP:20260421T045045Z
URL:https://business.kissimmeechamber.com/events/details/osceola-poker-classic-11-02-2005-398
END:VEVENT

END:VCALENDAR
