BEGIN:VCALENDAR
VERSION:2.0
PRODID:-//ChamberMaster//Event Calendar 2.0//EN
METHOD:PUBLISH
X-PUBLISHED-TTL:P3D
REFRESH-INTERVAL:P3D
CALSCALE:GREGORIAN
BEGIN:VEVENT
DTSTART:20210525T153000Z
DTEND:20210525T173000Z
X-MICROSOFT-CDO-ALLDAYEVENT:FALSE
SUMMARY:Osceola Update 2020
DESCRIPTION:A Look at the Economic & Legislative Landscape
X-ALT-DESC;FMTTYPE=text/html:<span style="font-family: arial\;"><span style="font-size: 16px\;"><font color="#000000">A Look at the Economic &amp\; Legislative Landscape</font></span></span><br />\n&nbsp\;
LOCATION:Reunion Resort 7593 Gathering Dr\, Kissimmee\, FL 34747
UID:e.7798.1060
SEQUENCE:3
DTSTAMP:20260421T105430Z
URL:https://business.kissimmeechamber.com/events/details/osceola-update-2020-1060
END:VEVENT

END:VCALENDAR
