BEGIN:VCALENDAR
VERSION:2.0
PRODID:-//ChamberMaster//Event Calendar 2.0//EN
METHOD:PUBLISH
X-PUBLISHED-TTL:P3D
REFRESH-INTERVAL:P3D
CALSCALE:GREGORIAN
BEGIN:VEVENT
DTSTART:20020101T050000Z
DTEND:20030101T050000Z
X-MICROSOFT-CDO-ALLDAYEVENT:FALSE
SUMMARY:Ribbon Cuttings 2002
DESCRIPTION:
X-ALT-DESC;FMTTYPE=text/html:
LOCATION:
UID:e.7798.420
SEQUENCE:3
DTSTAMP:20260423T090717Z
URL:https://business.kissimmeechamber.com/events/details/ribbon-cuttings-2002-420
END:VEVENT

END:VCALENDAR
