BEGIN:VCALENDAR
VERSION:2.0
PRODID:-//ChamberMaster//Event Calendar 2.0//EN
METHOD:PUBLISH
X-PUBLISHED-TTL:P3D
REFRESH-INTERVAL:P3D
CALSCALE:GREGORIAN
BEGIN:VEVENT
DTSTART:20040102T050000Z
DTEND:20041231T050000Z
X-MICROSOFT-CDO-ALLDAYEVENT:FALSE
SUMMARY:Ribbon Cuttings 2005
DESCRIPTION:
X-ALT-DESC;FMTTYPE=text/html:
LOCATION:
UID:e.7798.49
SEQUENCE:3
DTSTAMP:20260421T220126Z
URL:https://business.kissimmeechamber.com/events/details/ribbon-cuttings-2005-01-02-2004-49
END:VEVENT

END:VCALENDAR
