BEGIN:VCALENDAR
VERSION:2.0
PRODID:-//ChamberMaster//Event Calendar 2.0//EN
METHOD:PUBLISH
X-PUBLISHED-TTL:P3D
REFRESH-INTERVAL:P3D
CALSCALE:GREGORIAN
BEGIN:VEVENT
DTSTART:20060103T133000Z
DTEND:20061222T220000Z
X-MICROSOFT-CDO-ALLDAYEVENT:FALSE
SUMMARY:Ribbon Cuttings 2006
DESCRIPTION:
X-ALT-DESC;FMTTYPE=text/html:
LOCATION:Various
UID:e.7798.418
SEQUENCE:3
DTSTAMP:20260420T081514Z
URL:https://business.kissimmeechamber.com/events/details/ribbon-cuttings-2006-418
END:VEVENT

END:VCALENDAR
