BEGIN:VCALENDAR
VERSION:2.0
PRODID:-//ChamberMaster//Event Calendar 2.0//EN
METHOD:PUBLISH
X-PUBLISHED-TTL:P3D
REFRESH-INTERVAL:P3D
CALSCALE:GREGORIAN
BEGIN:VEVENT
DTSTART:20030627T210000Z
DTEND:20030628T030000Z
X-MICROSOFT-CDO-ALLDAYEVENT:FALSE
SUMMARY:SunCruz Casino Night 2003
DESCRIPTION:
X-ALT-DESC;FMTTYPE=text/html:
LOCATION:Port Canaveral
UID:e.7798.455
SEQUENCE:3
DTSTAMP:20260423T012152Z
URL:https://business.kissimmeechamber.com/events/details/suncruz-casino-night-2003-455
END:VEVENT

END:VCALENDAR
