BEGIN:VCALENDAR
VERSION:2.0
PRODID:-//ChamberMaster//Event Calendar 2.0//EN
METHOD:PUBLISH
X-PUBLISHED-TTL:P3D
REFRESH-INTERVAL:P3D
CALSCALE:GREGORIAN
BEGIN:VEVENT
DTSTART:20030312T170000Z
DTEND:20030313T220000Z
X-MICROSOFT-CDO-ALLDAYEVENT:FALSE
SUMMARY:Tallahassee Drive-Up 2003
DESCRIPTION:
X-ALT-DESC;FMTTYPE=text/html:
LOCATION:Tallahassee\, FL
UID:e.7798.47
SEQUENCE:3
DTSTAMP:20260423T055204Z
URL:https://business.kissimmeechamber.com/events/details/tallahassee-drive-up-2003-47
END:VEVENT

END:VCALENDAR
