BEGIN:VCALENDAR
VERSION:2.0
PRODID:-//ChamberMaster//Event Calendar 2.0//EN
METHOD:PUBLISH
X-PUBLISHED-TTL:P3D
REFRESH-INTERVAL:P3D
CALSCALE:GREGORIAN
BEGIN:VEVENT
DTSTART:20021019T200000Z
DTEND:20021019T220000Z
X-MICROSOFT-CDO-ALLDAYEVENT:FALSE
SUMMARY:UCF Hospitality Package
DESCRIPTION:
X-ALT-DESC;FMTTYPE=text/html:
LOCATION:Tinker Field
UID:e.7798.478
SEQUENCE:3
DTSTAMP:20260423T145228Z
URL:https://business.kissimmeechamber.com/events/details/ucf-hospitality-package-10-19-2002-478
END:VEVENT

END:VCALENDAR
