BEGIN:VCALENDAR
VERSION:2.0
PRODID:-//ChamberMaster//Event Calendar 2.0//EN
METHOD:PUBLISH
X-PUBLISHED-TTL:P3D
REFRESH-INTERVAL:P3D
CALSCALE:GREGORIAN
BEGIN:VEVENT
DTSTART:20031012T110000Z
DTEND:20031012T230000Z
X-MICROSOFT-CDO-ALLDAYEVENT:FALSE
SUMMARY:Viva Osceola 2003
DESCRIPTION:
X-ALT-DESC;FMTTYPE=text/html:
LOCATION:Kissimmee Lakefront
UID:e.7798.483
SEQUENCE:3
DTSTAMP:20260422T190209Z
URL:https://business.kissimmeechamber.com/events/details/viva-osceola-2003-483
END:VEVENT

END:VCALENDAR
